Workbook

Sheet Erläuterungen
A1: Erläuterungen (2026)
A2: Dies ist ein Berechnungsblatt ausschließlich für die Gruppenpauschalen/Leitungspauschalen und Personalverstärkungsmittel (ü3).
A3: Die Gruppenpauschalen ändern sich dieses Jahr zweimal,
A4: dementsprechend müssen diese für den Änderungsantrag vorher berechnet werden.
A5: Dazu diest diese Hilfe. Sie hat keinen Anspruch auf Rechtsgültigkeit.
A7: Die Farben der Reiter zeigen an, welche Gruppnpauschalen und welche Berechnungstools zusammengehören.
A8: Ganz am Ende des Blattes müssen alle Ergebnisse eintragen werden, um das Gesamtergebnis zu erhalten.
A9: Die Summen sind jeweils orangefarben hinterlegt.
A11: Die Zuschüsse für eure jeweiligen Gruppen (Kinderzahl und Öffnungszeiten, im ü3 - Bereich eingruppig oder mehrgruppig) müsst ihr von Hand eintragen,
A12: dann errechnet das Blatt die jeweiligen Pauschalen.
A14: Bitte unbedingt bei Fehlern uns kontaktieren. Ebenfalls freue ich mich über Verbesserungen.

Sheet GP 1.1. - 30.4.26
A1: Nr. 175 Amtsblatt der Freien Hansestadt Bremen vom 3. Oktober 2025
F3: Gruppenpauschalen und Leitungspauschalen vom 1.1.2026 - 30.4.2026
A5: Kleinkindgruppen
A6: Regelmäßige Betreuungsdauer / Woche | B6: ab 20 Std. | C6: ab 25 Std | D6: ab 27,5 Std. | E6: ab 30 Std. | F6: ab 32,5 Std. | G6: ab 35 Std. | H6: ab 37,5 Std. | I6: ab 40 Std.
A7: 8 belegte Plätze ein- u. mehrgruppig | B7: 5738 | C7: 6835 | D7: 7374 | E7: 7895 | F7: 8410 | G7: 8976 | H7: 9468 | I7: 9986
A8: 9 belegte Plätze ein- u. mehrgruppig | B8: 6594 | C8: 7654 | D8: 8163 | E8: 8660 | F8: 9152 | G8: 9695 | H8: 10158 | I8: 10652
A9: 10 belegte Plätze ein- u. mehrgruppig | B9: 6870 | C9: 7940 | D9: 8450 | E9: 8949 | F9: 9443 | G9: 9987 | H9: 10451 | I9: 10947
A11: Kindergartengruppe
A12: eingruppige Einrichtungen
A13: Regelmäßige Betreuungsdauer / Woche | B13: ab 20 Std. | C13: ab 22,5 Std. | D13: ab 25 Std | E13: ab 27,5 Std. | F13: ab 30 Std. | G13: ab 32,5 Std. | H13: ab 35 Std. | I13: ab 37,5 Std. | J13: ab 40 Std.
A14: 12 - 14 belegte Plätze | B14: 3641 | C14: 4072 | D14: 4478 | E14: 4799 | F14: 5180 | G14: 5492 | H14: 5797 | I14: 6193 | J14: 6503
A15: 15 - 17 belegte Plätze | B15: 3853 | C15: 4315 | D15: 4759 | E15: 4962 | F15: 5507 | G15: 5835 | H15: 6158 | I15: 6582 | J15: 6911
A16: 18 - 20 belegte Plätze | B16: 4063 | C16: 4555 | D16: 5036 | E16: 5403 | F16: 5830 | G16: 6180 | H16: 6525 | I16: 6970 | J16: 7320
A18: mehrgruppige Einrichtungen
A19: Regelmäßige Betreuungsdauer / Woche | B19: ab 20 Std. | C19: ab 22,5 Std. | D19: ab 25 Std | E19: ab 27,5 Std. | F19: ab 30 Std. | G19: ab 32,5 Std. | H19: ab 35 Std. | I19: ab 37,5 Std. | J19: ab 40 Std.
A20: 12 - 14 belegte Plätze | B20: 3052 | C20: 3412 | D20: 3747 | E20: 3985 | F20: 4295 | G20: 4536 | H20: 4772 | I20: 5085 | J20: 5325
A21: 15 - 17 belegte Plätze | B21: 3231 | C21: 3617 | D21: 3987 | E21: 4240 | F21: 4574 | G21: 4827 | H21: 5075 | I21: 5413 | J21: 5667
A22: 18 - 20 belegte Plätze | B22: 3408 | C22: 3822 | D22: 4226 | E22: 4500 | F22: 4849 | G22: 5121 | H22: 5387 | I22: 5740 | J22: 6010
A24: Zusätzlich wird pro belegtem Platz und Monat eine Zuwendung von 28,50 € gewährt.
A28: Schulkindergruppe/Hort
A30: eingruppige Einrichtungen
A31: Betreuungsdauer pro Woche im Jahresdurchschnitt | B31: ab 15 Std. | C31: ab 17,5 Std | D31: ab 20 Std. | E31: ab 22,5 Std. | F31: ab 25 Std.
A32: 12 - 14 belegte Plätze | B32: 2627 | C32: 2901 | D32: 3222 | E32: 3497 | F32: 3794
A33: 15 - 17 belegte Plätze | B33: 2775 | C33: 3072 | D33: 3403 | E33: 3699 | F33: 4008
A34: 18 - 20 belegte Plätze | B34: 2926 | C34: 3233 | D34: 3584 | E34: 3895 | F34: 4225
A36: mehrgruppige Einrichtungen
A37: Betreuungsdauer pro Woche im Jahresdurchschnitt | B37: ab 15 Std. | C37: ab 17,5 Std | D37: ab 20 Std. | E37: ab 22,5 Std. | F37: ab 25 Std.
A38: 12 - 14 belegte Plätze | B38: 2189 | C38: 2391 | D38: 2636 | E38: 2841 | F38: 3064
A39: 15 - 17 belegte Plätze | B39: 2311 | C39: 2530 | D39: 2783 | E39: 3001 | F39: 3234
A40: 18 - 20 belegte Plätze | B40: 2435 | C40: 2660 | D40: 2929 | E40: 3159 | F40: 3406
A42: Pauschaler Zuschuss pro Monat für Einrichtungsleitungen
A44: Anzahl der regemäßig belegten Plätze ab | B44: maximaler Zuschuss pro Monat
A45: 28 regelmäßig belegter Plätze | B45: 1114 | D45: Krippenplätze zählen doppelt !!
A46: 42 regelmäßig belegter Plätze | B46: 1798
A47: 56 regelmäßig belegter Plätze | B47: 2398
A48: 70 regelmäßig belegter Plätze | B48: 2662
A49: 84 regelmäßig belegter Plätze | B49: 3202
A51: Bremen, 1. Juli 2025

Sheet GP 1.5.-31.7.26
A1: Gruppenpauschalen und Leitungspauschale ab 1.5.2026 - 31.7.2026, Tarifanpassung
A4: Kleinkindgruppen
A5: Regelmäßige Betreuungsdauer / Woche | B5: ab 20 Std. | C5: ab 25 Std | D5: ab 27,5 Std. | E5: ab 30 Std. | F5: ab 32,5 Std. | G5: ab 35 Std. | H5: ab 37,5 Std. | I5: ab 40 Std.
A6: 8 belegte Plätze ein- u. mehrgruppig | B6: 5929 | C6: 7071 | D6: 7627 | E6: 8165 | F6: 8698 | G6: 9283 | H6: 9791 | I6: 10326
A7: 9 belegte Plätze ein- u. mehrgruppig | B7: 6813 | C7: 7918 | D7: 8445 | E7: 8959 | F7: 9469 | G7: 10030 | H7: 10510 | I7: 11021
A8: 10 belegte Plätze ein- u. mehrgruppig | B8: 7102 | C8: 8220 | D8: 8749 | E8: 9265 | F8: 9777 | G8: 10340 | H8: 10821 | I8: 11335
A10: Kindergartengruppe
A11: eingruppige Einrichtungen
A12: Regelmäßige Betreuungsdauer / Woche | B12: ab 20 Std. | C12: ab 22,5 Std. | D12: ab 25 Std | E12: ab 27,5 Std. | F12: ab 30 Std. | G12: ab 32,5 Std. | H12: ab 35 Std. | I12: ab 37,5 Std. | J12: ab 40 Std.
A13: 12 - 14 belegte Plätze | B13: 3789 | C13: 4241 | D13: 4666 | E13: 4999 | F13: 5395 | G13: 5721 | H13: 6039 | I13: 6450 | J13: 6773
A14: 15 - 17 belegte Plätze | B14: 4021 | C14: 4507 | D14: 4973 | E14: 5188 | F14: 5753 | G14: 6096 | H14: 6434 | I14: 6875 | J14: 7218
A15: 18 - 20 belegte Plätze | B15: 4251 | C15: 4771 | D15: 5277 | E15: 5661 | F15: 6106 | G15: 6473 | H15: 6834 | I15: 7299 | J15: 7665
A17: mehrgruppige Einrichtungen
A18: Regelmäßige Betreuungsdauer / Woche | B18: ab 20 Std. | C18: ab 22,5 Std. | D18: ab 25 Std | E18: ab 27,5 Std. | F18: ab 30 Std. | G18: ab 32,5 Std. | H18: ab 35 Std. | I18: ab 37,5 Std. | J18: ab 40 Std.
A19: 12 - 14 belegte Plätze | B19: 3186 | C19: 3566 | D19: 3918 | E19: 4168 | F19: 4490 | G19: 4743 | H19: 4990 | I19: 5316 | J19: 5568
A20: 15 - 17 belegte Plätze | B20: 3385 | C20: 3794 | D20: 4184 | E20: 4450 | F20: 4799 | G20: 5065 | H20: 5326 | I20: 5679 | J20: 5947
A21: 18 - 20 belegte Plätze | B21: 3581 | C21: 4021 | D21: 4448 | E21: 4738 | F21: 5103 | G21: 5390 | H21: 5671 | I21: 6041 | J21: 6325
A23: Zusätzlich wird pro belegtem Platz und Monat eine Zuwendung von 28,50 € gewährt.
A25: Schulkindergruppe/Hort
A26: eingruppige Einrichtungen
A27: Betreuungsdauer pro Woche im Jahresdurchschnitt | B27: ab 15 Std. | C27: ab 17,5 Std | D27: ab 20 Std. | E27: ab 22,5 Std. | F27: ab 25 Std.
A28: 12 - 14 belegte Plätze | B28: 2585 | C28: 2866 | D28: 3193 | E28: 3475 | F28: 3779
A29: 15 - 17 belegte Plätze | B29: 2713 | C29: 3017 | D29: 3355 | E29: 3658 | F29: 3974
A30: 18 - 20 belegte Plätze | B30: 2845 | C30: 3159 | D30: 3518 | E30: 3836 | F30: 4173
A32: mehrgruppige Einrichtungen
A33: Betreuungsdauer pro Woche im Jahresdurchschnitt | B33: ab 15 Std. | C33: ab 17,5 Std | D33: ab 20 Std. | E33: ab 22,5 Std. | F33: ab 25 Std.
A34: 12 - 14 belegte Plätze | B34: 2137 | C34: 2344 | D34: 2594 | E34: 2804 | F34: 3032
A35: 15 - 17 belegte Plätze | B35: 2239 | C35: 2463 | D35: 2722 | E35: 2945 | F35: 3182
A36: 18 - 20 belegte Plätze | B36: 2342 | C36: 2573 | D36: 2848 | E36: 3083 | F36: 3336
A39: Pauschaler Zuschuss pro Monat für Einrichtungsleitungen
A41: Anzahl der regemäßig belegten Plätze ab | B41: maximaler Zuschuss pro Monat
A42: 28 regelmäßig belegter Plätze | B42: 1158 | D42: Krippenplätze zählen doppelt !!
A43: 42 regelmäßig belegter Plätze | B43: 1870
A44: 56 regelmäßig belegter Plätze | B44: 2494
A45: 70 regelmäßig belegter Plätze | B45: 2768
A46: 84 regelmäßig belegter Plätze | B46: 3330
A49: 4. Die Änderungen in Nummer 1 und 3 treten rückwirkend zum 1. Mai 2026 in Kraft.
A50: Die Änderungen im Schulkinderbereich ab 1.8.2026
D53: Der Senator für Kinder und Bildung

Sheet GP 1.8. - 31.12.26
A1: Gruppenpauschalen vom 1.8. - 31.12.2026, keine Erhöhung der Leitungspauschale, da nur Sachkosten-Anpassung
A3: Kleinkindgruppen
A4: Regelmäßige Betreuungsdauer / Woche | B4: ab 20 Std. | C4: ab 25 Std | D4: ab 27,5 Std. | E4: ab 30 Std. | F4: ab 32,5 Std. | G4: ab 35 Std. | H4: ab 37,5 Std. | I4: ab 40 Std.
A5: 8 belegte Plätze ein- u. mehrgruppig | B5: 5981 | C5: 7136 | D5: 7696 | E5: 8239 | F5: 8777 | G5: 9367 | H5: 9879 | I5: 10419
A6: 9 belegte Plätze ein- u. mehrgruppig | B6: 6864 | C6: 7984 | D6: 8521 | E6: 9041 | F6: 9555 | G6: 10121 | H6: 10605 | I6: 11122
A7: 10 belegte Plätze ein- u. mehrgruppig | B7: 7158 | C7: 8290 | D7: 8820 | E7: 9342 | F7: 9857 | G7: 10425 | H7: 10911 | I7: 11429
A9: Kindergartengruppen
A10: eingruppige Einrichtungen
A11: Regelmäßige Betreuungsdauer / Woche | B11: ab 20 Std. | C11: ab 22,5 Std. | D11: ab 25 Std | E11: ab 27,5 Std. | F11: ab 30 Std. | G11: ab 32,5 Std. | H11: ab 35 Std. | I11: ab 37,5 Std. | J11: ab 40 Std.
A12: 12 - 14 belegte Plätze | B12: 3846 | C12: 4306 | D12: 4739 | E12: 5078 | F12: 5479 | G12: 5810 | H12: 6133 | I12: 6550 | J12: 6878
A13: 15 - 17 belegte Plätze | B13: 4086 | C13: 4581 | D13: 5057 | E13: 5277 | F13: 5849 | G13: 6197 | H13: 6541 | I13: 6989 | J13: 7338
A14: 18 - 20 belegte Plätze | B14: 4324 | C14: 4854 | D14: 5370 | E14: 5762 | F14: 6214 | G14: 6587 | H14: 6955 | I14: 7427 | J14: 7799
A16: mehrgruppige Einrichtungen
A17: Regelmäßige Betreuungsdauer / Woche | B17: ab 20 Std. | C17: ab 22,5 Std. | D17: ab 25 Std | E17: ab 27,5 Std. | F17: ab 30 Std. | G17: ab 32,5 Std. | H17: ab 35 Std. | I17: ab 37,5 Std. | J17: ab 40 Std.
A18: 12 - 14 belegte Plätze | B18: 3242 | C18: 3630 | D18: 3989 | E18: 4243 | F18: 4571 | G18: 4828 | H18: 5079 | I18: 5411 | J18: 5667
A19: 15 - 17 belegte Plätze | B19: 3449 | C19: 3867 | D19: 4265 | E19: 4537 | F19: 4891 | G19: 5163 | H19: 5429 | I19: 5788 | J19: 6060
A20: 18 - 20 belegte Plätze | B20: 3653 | C20: 4103 | D20: 4541 | E20: 4836 | F20: 5208 | G20: 5501 | H20: 5788 | I20: 6164 | J20: 6454
A22: Zusätzlich wird pro belegtem Platz und Monat eine Zuwendung von 28,50 € gewährt.
A24: Schulkindergruppen
A26: eingruppige Einrichtungen
A27: Betreuungsdauer pro Woche im Jahresdurchschnitt | B27: ab 15 Std. | C27: ab 17,5 Std | D27: ab 20 Std. | E27: ab 22,5 Std. | F27: ab 25 Std.
A28: 12 - 14 belegte Plätze | B28: 2640 | C28: 2923 | D28: 3253 | E28: 3538 | F28: 3844
A29: 15 - 17 belegte Plätze | B29: 2777 | C29: 3083 | D29: 3424 | E29: 3730 | F29: 4049
A30: 18 - 20 belegte Plätze | B30: 2917 | C30: 3234 | D30: 3596 | E30: 3917 | F30: 4257
A32: mehrgruppige Einrichtungen
A33: Betreuungsdauer pro Woche im Jahresdurchschnitt | B33: ab 15 Std. | C33: ab 17,5 Std | D33: ab 20 Std. | E33: ab 22,5 Std. | F33: ab 25 Std.
A34: 12 - 14 belegte Plätze | B34: 2188 | C34: 2397 | D34: 2649 | E34: 2861 | F34: 3091
A35: 15 - 17 belegte Plätze | B35: 2298 | C35: 2524 | D35: 2785 | E35: 3010 | F35: 3250
A36: 18 - 20 belegte Plätze | B36: 2410 | C36: 2643 | D36: 2920 | E36: 3157 | F36: 3413
A39: Pauschaler Zuschuss pro Monat für Einrichtungsleitungen
A41: Anzahl der regemäßig belegten Plätze ab | B41: maximaler Zuschuss pro Monat
A42: 28 regelmäßig belegter Plätze | B42: 1158 | D42: Krippenplätze zählen doppelt !!
A43: 42 regelmäßig belegter Plätze | B43: 1870
A44: 56 regelmäßig belegter Plätze | B44: 2494
A45: 70 regelmäßig belegter Plätze | B45: 2768
A46: 84 regelmäßig belegter Plätze | B46: 3330
A48: Bremen, den 13. Juli 2026
A49: Die Änderungen treten ab 1.8.2026 in Kraft.

Sheet Berechnungen 1.1.-30.4.26
A1: Berechnungen
A3: Pauschale 1.1.-30.4.2026
B4: 15 | C4: 20 | D4: 25 | E4: 27.5 | F4: 30 | G4: 32.5 | H4: 35 | I4: 37.5 | J4: 40
A5: 1. Kleinkindgruppe u3 | H5: 0 | J5: 0
A6: 2. Kleinkindgruppe u3
A7: 3. Kleinkindgruppe u3
A8: 4. Kleinkindgruppe u3
A9: 5. Kleinkindgruppe u3
A10: 6. Kleinkindgruppe u3
A11: Summe | D11: =D5+D6+D7+D8+D9+D10 -> 0 | E11: =E5+E6+E7+E8+E9+E10 -> 0 | F11: =F5+F6+F7+F8+F9+F10 -> 0 | G11: =G5+G6+G7+G8+G9+G10 -> 0 | H11: =H5+H6+H7+H8+H9+H10 -> 0 | I11: =I5+I6+I7+I8+I9+I10 -> 0 | J11: =J5+J6+J7+J8+J9+J10 -> 0 | K11: =SUM(D11:J11) -> 0
A12: 1.Kindergartengruppe ü3 | J12: 0
A13: 2.Kindergartengruppe ü3
A14: 3.Kindergartengruppe ü3
A15: 4.Kindergartengruppe ü3
A16: 5. Kindergartengruppe ü3
A17: 6. Kindergartengruppe ü3
A18: Summe | D18: =D12+D13+D14+D15+D16+D17 -> 0 | E18: =E12+E13+E14+E15+E16+E17 -> 0 | F18: =F12+F13+F14+F15+F16+F17 -> 0 | G18: =G12+G13+G14+G15+G16+G17 -> 0 | H18: =H12+H13+H14+H15+H16+H17 -> 0 | I18: =I12+I13+I14+I15+I16+I17 -> 0 | J18: =J12+J13+J14+J15+J16+J17 -> 0 | K18: =SUM(D18:J18) -> 0
A19: 1.Hortgruppe | E19: 0
A20: 2. Hortgruppe
A21: 3. Hortgruppe
A22: Summe | B22: =B19+B20+B21 -> 0 | C22: =C19+C20+C21 -> 0 | D22: =D19+D20+D21 -> 0 | E22: =E19+E20+E21 -> 0 | K22: =SUM(B22:J22) -> 0 | M22: Berechnungsformel altersgemischt
A23: 1.altersgemischte Gruppe (1-6) | I23: 0 | S23: Ergebnis
A24: 2.altergemischte Gruppe (1-6) | M24: u3 | N24: (höchste Pauschale nach Öffnungszeit):10 | R24: x5
A25: Summe | B25: =SUM(B22:B24) -> 0 | C25: =SUM(C22:C24) -> 0 | D25: =SUM(D23:D24) -> 0 | E25: =SUM(E23:E24) -> 0 | F25: =SUM(F23:F24) -> 0 | G25: =SUM(G23:G24) -> 0 | H25: =SUM(H23:H24) -> 0 | I25: =SUM(I23:I24) -> 0 | J25: =SUM(J23:J24) -> 0 | K25: =SUM(D25:J25) -> 0 | M25: ü3 | N25: (Pauschale für 15 Kinder nach Öffnungzeit) : 15 | R25: x10
M26: Gesamtsumme/pro Monat
A29: Zuschuss u3 | B29: x4 | C29: =K11 -> 0 | D29: =4*C29 -> 0
A30: Zuschuss ü3 | B30: x4 | C30: =K18 -> 0 | D30: =4*C30 -> 0
A31: Zuschuss Hort | B31: x4 | C31: =K22 -> 0 | D31: =4*C31 -> 0
A32: Zuschuss altersgemischt | B32: x4 | C32: =K25 -> 0 | D32: =4*C32 -> 0
A33: Summe Pauschalen | D33: =D29+D30+D31+D32 -> 0
A35: Personalverstärkungsmittel | C35: Anzahl ü3-Kinder | F35: =E35*28.5*4 -> 0
A37: Leitungspauschale | B37: belegte Plätze | G37: Leitungspauschale über 100 Kinder
B38: u3 | C38: 2x | E38: =D38*2 -> 0
B39: ü3 | H39: 3202 | I39: =H39/100 -> 32.02
B40: Hort
B41: Summe | E41: =E38+E39+E40 -> 0 | G41: Anzahl Kinder über 100 | I41: 0 | J41: =I41*I39 -> 0
A43: Summe Leitung | B43: Zuschuss | C43: x4 | D43: 0 | E43: =4*D43 -> 0 | G43: Summe Leitung ü100 | I43: =E43+J41 -> 0
B44: (s.Tabelle)

Sheet Berechnungen 1.5. -31.7.26
A1: Berechnungen
A3: Pauschale 1.5.-31.7.2026
B4: 15 | C4: 20 | D4: 25 | E4: 27.5 | F4: 30 | G4: 32.5 | H4: 35 | I4: 37.5 | J4: 40
A5: 1. Kleinkindgruppe u3 | J5: 0
A6: 2. Kleinkindgruppe u3
A7: 3. Kleinkindgruppe u3
A8: 4. Kleinkindgruppe u3
A9: 5. Kleinkindgruppe u3
A10: 6. Kleinkindgruppe u3
A11: Summe | D11: =D5+D6+D7+D8+D9+D10 -> 0 | E11: =E5+E6+E7+E8+E9+E10 -> 0 | F11: =F5+F6+F7+F8+F9+F10 -> 0 | G11: =G5+G6+G7+G8+G9+G10 -> 0 | H11: =H5+H6+H7+H8+H9+H10 -> 0 | I11: =I5+I6+I7+I8+I9+I10 -> 0 | J11: =J5+J6+J7+J8+J9+J10 -> 0 | K11: =SUM(D11:J11) -> 0
A12: 1.Kindergartengruppe ü3
A13: 2.Kindergartengruppe ü3
A14: 3.Kindergartengruppe ü3
A15: 4.Kindergartengruppe ü3
A16: 5. Kindergartengruppe ü3
A17: 6. Kindergartengruppe ü3
A18: Summe | D18: =D12+D13+D14+D15+D16+D17 -> 0 | E18: =E12+E13+E14+E15+E16+E17 -> 0 | F18: =F12+F13+F14+F15+F16+F17 -> 0 | G18: =G12+G13+G14+G15+G16+G17 -> 0 | H18: =H12+H13+H14+H15+H16+H17 -> 0 | I18: =I12+I13+I14+I15+I16+I17 -> 0 | J18: =J12+J13+J14+J15+J16+J17 -> 0 | K18: =SUM(D18:J18) -> 0
A19: 1.Hortgruppe
A20: 2. Hortgruppe
A21: 3. Hortgruppe
A22: Summe | B22: =B19+B20+B21 -> 0 | C22: =C19+C20+C21 -> 0 | D22: =D19+D20+D21 -> 0 | E22: =E19+E20+E21 -> 0 | K22: =SUM(B22:J22) -> 0 | M22: Berechnungsformel altersgemischt
A23: 1.altersgemischte Gruppe (1-6) | S23: Ergebnis
A24: 2.altergemischte Gruppe (1-6) | M24: u3 | N24: (höchste Pauschale nach Öffnungszeit):10 | R24: x5
A25: Summe | B25: =SUM(B22:B24) -> 0 | C25: =SUM(C22:C24) -> 0 | D25: =SUM(D23:D24) -> 0 | E25: =SUM(E23:E24) -> 0 | F25: =SUM(F23:F24) -> 0 | G25: =SUM(G23:G24) -> 0 | H25: =SUM(H23:H24) -> 0 | I25: =SUM(I23:I24) -> 0 | J25: =SUM(J23:J24) -> 0 | K25: =SUM(D25:J25) -> 0 | M25: ü3 | N25: (Pauschale für 15 Kinder nach Öffnungzeit) : 15 | R25: x10
M26: Gesamtsumme/pro Monat
A29: Zuschuss u3 | B29: x3 | C29: =K11 -> 0 | D29: =3*C29 -> 0
A30: Zuschuss ü3 | B30: x3 | C30: =K18 -> 0 | D30: =3*C30 -> 0
A31: Zuschuss Hort | B31: x3 | C31: =K22 -> 0 | D31: =3*C31 -> 0
A32: Zuschuss altersgemischt | B32: x3 | C32: =K25 -> 0 | D32: =3*C32 -> 0
A33: Summe Pauschalen | D33: =D29+D30+D31+D32 -> 0
A35: Personalverstärkungsmittel | C35: Anzahl ü3-Kinder | E35: 0 | F35: =E35*28.5*4 -> 0
A37: Leitungspauschale | B37: belegte Plätze | G37: Leitungspauschale über 100 Kinder
B38: u3 | C38: 2x | E38: =D38*2 -> 0
B39: ü3 | H39: 3330 | I39: =H39/100 -> 33.3
B40: Hort
B41: Summe | E41: =E38+E39+E40 -> 0 | G41: Anzahl Kinder über 100 | I41: 0 | J41: =I41*I39 -> 0
B43: Zuschuss | C43: x3 | D43: =E41 -> 0 | E43: =D43*3 -> 0 | G43: Summe Leitung | I43: =E43+J41 -> 0
B44: (s.Tabelle)

Sheet Berechnungen 1.8.-31.12.2026
A1: Berechnungen
A3: Pauschale 1.8.-31.12.2026
B4: 15 | C4: 20 | D4: 25 | E4: 27.5 | F4: 30 | G4: 32.5 | H4: 35 | I4: 37.5 | J4: 40
A5: 1. Kleinkindgruppe u3 | J5: 0
A6: 2. Kleinkindgruppe u3
A7: 3. Kleinkindgruppe u3
A8: 4. Kleinkindgruppe u3
A9: 5. Kleinkindgruppe u3
A10: 6. Kleinkindgruppe u3
A11: Summe | D11: =D5+D6+D7+D8+D9+D10 -> 0 | E11: =E5+E6+E7+E8+E9+E10 -> 0 | F11: =F5+F6+F7+F8+F9+F10 -> 0 | G11: =G5+G6+G7+G8+G9+G10 -> 0 | H11: =H5+H6+H7+H8+H9+H10 -> 0 | I11: =I5+I6+I7+I8+I9+I10 -> 0 | J11: =J5+J6+J7+J8+J9+J10 -> 0 | K11: =SUM(D11:J11) -> 0
A12: 1.Kindergartengruppe ü3
A13: 2.Kindergartengruppe ü3
A14: 3.Kindergartengruppe ü3
A15: 4.Kindergartengruppe ü3
A16: 5. Kindergartengruppe ü3
A17: 6. Kindergartengruppe ü3
A18: Summe | D18: =D12+D13+D14+D15+D16+D17 -> 0 | E18: =E12+E13+E14+E15+E16+E17 -> 0 | F18: =F12+F13+F14+F15+F16+F17 -> 0 | G18: =G12+G13+G14+G15+G16+G17 -> 0 | H18: =H12+H13+H14+H15+H16+H17 -> 0 | I18: =I12+I13+I14+I15+I16+I17 -> 0 | J18: =J12+J13+J14+J15+J16+J17 -> 0 | K18: =SUM(D18:J18) -> 0
A19: 1.Hortgruppe
A20: 2. Hortgruppe
A21: 3. Hortgruppe
A22: Summe | B22: =B19+B20+B21 -> 0 | C22: =C19+C20+C21 -> 0 | D22: =D19+D20+D21 -> 0 | E22: =E19+E20+E21 -> 0 | K22: =SUM(B22:J22) -> 0
A23: 1.altersgemischte Gruppe (1-6) | M23: Berechnungsformel altersgemischt
A24: 2.altergemischte Gruppe (1-6) | S24: Ergebnis
A25: Summe | B25: =SUM(B22:B24) -> 0 | C25: =SUM(C22:C24) -> 0 | D25: =SUM(D23:D24) -> 0 | E25: =SUM(E23:E24) -> 0 | F25: =SUM(F23:F24) -> 0 | G25: =SUM(G23:G24) -> 0 | H25: =SUM(H23:H24) -> 0 | I25: =SUM(I23:I24) -> 0 | J25: =SUM(J23:J24) -> 0 | K25: =SUM(D25:J25) -> 0 | M25: u3 | N25: (höchste Pauschale nach Öffnungszeit):10 | R25: x5
M26: ü3 | N26: (Pauschale für 15 Kinder nach Öffnungzeit) : 15 | R26: x10
M27: Gesamtsumme/pro Monat
A29: Zuschuss u3 | B29: x5 | C29: =K11 -> 0 | D29: =5*C29 -> 0
A30: Zuschuss ü3 | B30: x5 | C30: =K18 -> 0 | D30: =5*C30 -> 0
A31: Zuschuss Hort | B31: x5 | C31: =K22 -> 0 | D31: =5*C31 -> 0
A32: Zuschuss altersgemischt | B32: x5 | C32: 0 | D32: =5*C32 -> 0
A33: Summe Pauschalen | D33: =D29+D30+D31+D32 -> 0
A35: Personalverstärkungsmittel | C35: Anzahl ü3-Kinder | E35: 0 | F35: =E35*28.5*4 -> 0
A38: Leitungspauschale | B38: belegte Plätze | G38: Leitungspauschale über 100 Kinder
B39: u3 | C39: 2x | E39: =D39*2 -> 0
B40: ü3 | H40: 3330 | I40: =H40/100 -> 33.3
B41: Hort
B42: Summe | E42: =E39+E40+E41 -> 0 | G42: Anzahl Kinder über 100 | I42: 0 | J42: =I42*I40 -> 0
B44: Zuschuss | C44: x5 | D44: =E42 -> 0 | E44: =D44*5 -> 0 | G44: Summe Leitung ü100 | I44: =E44+J42 -> 0
B45: (s.Tabelle)

Sheet Gesamtsumme
A2: Gruppenpauschalen | C2: ='Berechnungen 1.1.-30.4.26'!D33 -> 0
C3: ='Berechnungen 1.5. -31.7.26'!D33 -> 0
C4: ='Berechnungen 1.8.-31.12.2026'!D33 -> 0
A5: Summe Gruppenpauschalen | C5: =SUM(C2:C4) -> 0
A6: Personalverstärkung | C6: ='Berechnungen 1.1.-30.4.26'!F35 -> 0
C7: ='Berechnungen 1.5. -31.7.26'!F35 -> 0
C8: ='Berechnungen 1.8.-31.12.2026'!F35 -> 0
A9: Summe Personalverstärkung | C9: =SUM(C6:C8) -> 0
A10: Leitungspauschale | C10: ='Berechnungen 1.1.-30.4.26'!I43 -> 0
C11: ='Berechnungen 1.5. -31.7.26'!I43 -> 0
C12: ='Berechnungen 1.8.-31.12.2026'!I43 -> 0
A13: Summe Leitungspauschale | C13: =SUM(C10:C12) -> 0
A17: erstellt von
A18: Kitaberatung Paritätischer
A19: Stand 09/2026
